BEGIN:VCALENDAR
VERSION:2.0
PRODID:City of Livermore website Calendar Creator
METHOD:PUBLISH
BEGIN:VEVENT
DTSTAMP:20250401T140709
DTSTART:20251208T190000
DTEND:20251208T220000
SUMMARY:City Council Regular Meeting
DESCRIPTION:To view meeting details and start times, visit:&nbsp;<a href="https://www.livermoreca.gov/departments/city-clerk/city-council-meeting-calendar-agendas#!/">City Meeting Agendas and Calendars | Livermore, CA (livermoreca.gov)</a>.&nbsp; Agenda materials will be published and available here no later than 72 hours prior to the meeting.&nbsp;&nbsp;
X-ALT-DESC;FMTTYPE=text/html:To view meeting details and start times, visit:&nbsp;<a href="https://www.livermoreca.gov/departments/city-clerk/city-council-meeting-calendar-agendas#!/">City Meeting Agendas and Calendars | Livermore, CA (livermoreca.gov)</a>.&nbsp; Agenda materials will be published and available here no later than 72 hours prior to the meeting.&nbsp;&nbsp;
LOCATION:Civic Center Meeting Hall\, 1016 S. Livermore Avenue Livermore\, California 94550
CLASS:PUBLIC
END:VEVENT
END:VCALENDAR
