BEGIN:VCALENDAR
VERSION:2.0
PRODID:City of Livermore website Calendar Creator
METHOD:PUBLISH
BEGIN:VEVENT
DTSTAMP:20251125T193619
DTSTART:20251127T000000
DTEND:20251127T235900
SUMMARY:Library Closed for Thanksgiving Holiday
DESCRIPTION:<p>All Library locations are closed today, Thursday, November 27, and on Friday, November 28, for the Thanksgiving Holiday. Civic Center Library will be open on Saturday, November 29.</p><p><a href="https://library.livermoreca.gov/about-us/locations-hours-holidays/springtown-easy-access" target="_blank">Springtown Branch Easy Access</a>&nbsp;is open daily from 8 a.m. - 8 p.m. The&nbsp;<a href="https://library.livermoreca.gov/digital-library" target="_self">Digital Library</a>&nbsp;is always open. Our online branch may be explored with an Internet connection and a&nbsp;<a href="https://library.livermoreca.gov/about-us/library-cards" target="_self">Livermore Public Library card</a>. We offer:</p><ul>    <li><a href="https://0-www-pressreader-com.www.livermore.lib.ca.us/catalog" target="_blank" rel="noopener">PressReader</a>&nbsp;for eMagazines and eNewspapers</li>    <li><a href="https://www.kanopy.com/en/livermore" target="_blank">Kanopy</a>&nbsp;and&nbsp;<a href="https://0-search-alexanderstreet-com.www.livermore.lib.ca.us/" target="_blank">Alexander Street</a>&nbsp;for streaming entertainment</li>    <li><a href="https://livermore.overdrive.com/" target="_blank">OverDrive/Libby</a>&nbsp;for free downloadable eBooks and eAudiobooks</li>    <li><a href="https://education.gale.com/l-livermain/" target="_blank">Gale Courses</a>&nbsp;for personal enrichment</li>    <li><a href="https://learning.pronunciator.com/getstarted.php?library_id=7929" target="_blank">Pronunciator</a>&nbsp;for learning a language</li>    <li><a href="https://livermorelibrary.discoverandgo.net/" target="_blank">Discover &amp; Go</a>&nbsp;for museum passes</li>    <li><a target="_blank" href="https://0-school-eb-com.www.livermore.lib.ca.us/levels">Britannica School Encyclopedia</a>,&nbsp;<a href="https://www.galepages.com/liver_main" target="_blank" rel="noopener">Gale Resources</a>, and&nbsp;<a href="https://0-explore-proquest-com.www.livermore.lib.ca.us/" target="_blank">ProQuest Homework Central</a>&nbsp;for schoolwork</li>    <li>and&nbsp;<a href="https://library.livermoreca.gov/digital-library/digital-library/alphabetical-list" target="_self">much more</a>!</li></ul>
X-ALT-DESC;FMTTYPE=text/html:<p>All Library locations are closed today, Thursday, November 27, and on Friday, November 28, for the Thanksgiving Holiday. Civic Center Library will be open on Saturday, November 29.</p><p><a href="https://library.livermoreca.gov/about-us/locations-hours-holidays/springtown-easy-access" target="_blank">Springtown Branch Easy Access</a>&nbsp;is open daily from 8 a.m. - 8 p.m. The&nbsp;<a href="https://library.livermoreca.gov/digital-library" target="_self">Digital Library</a>&nbsp;is always open. Our online branch may be explored with an Internet connection and a&nbsp;<a href="https://library.livermoreca.gov/about-us/library-cards" target="_self">Livermore Public Library card</a>. We offer:</p><ul>    <li><a href="https://0-www-pressreader-com.www.livermore.lib.ca.us/catalog" target="_blank" rel="noopener">PressReader</a>&nbsp;for eMagazines and eNewspapers</li>    <li><a href="https://www.kanopy.com/en/livermore" target="_blank">Kanopy</a>&nbsp;and&nbsp;<a href="https://0-search-alexanderstreet-com.www.livermore.lib.ca.us/" target="_blank">Alexander Street</a>&nbsp;for streaming entertainment</li>    <li><a href="https://livermore.overdrive.com/" target="_blank">OverDrive/Libby</a>&nbsp;for free downloadable eBooks and eAudiobooks</li>    <li><a href="https://education.gale.com/l-livermain/" target="_blank">Gale Courses</a>&nbsp;for personal enrichment</li>    <li><a href="https://learning.pronunciator.com/getstarted.php?library_id=7929" target="_blank">Pronunciator</a>&nbsp;for learning a language</li>    <li><a href="https://livermorelibrary.discoverandgo.net/" target="_blank">Discover &amp; Go</a>&nbsp;for museum passes</li>    <li><a target="_blank" href="https://0-school-eb-com.www.livermore.lib.ca.us/levels">Britannica School Encyclopedia</a>,&nbsp;<a href="https://www.galepages.com/liver_main" target="_blank" rel="noopener">Gale Resources</a>, and&nbsp;<a href="https://0-explore-proquest-com.www.livermore.lib.ca.us/" target="_blank">ProQuest Homework Central</a>&nbsp;for schoolwork</li>    <li>and&nbsp;<a href="https://library.livermoreca.gov/digital-library/digital-library/alphabetical-list" target="_self">much more</a>!</li></ul>
LOCATION:
CLASS:PUBLIC
END:VEVENT
END:VCALENDAR
